BEGIN:VCALENDAR
METHOD:PUBLISH
PRODID:-//doubleknot.com//CalenderEvent MIMEDIR//EN
VERSION:2.0
BEGIN:VEVENT
UID:3144195-20261207T133000Z-20261207T190000Z@doubleknot.com
CREATED:20260423T193634Z
LAST-MODIFIED:20260423T202622Z
DTSTAMP:20260424T005723Z
DTSTART:20261207T133000Z
DTEND:20261207T190000Z
LOCATION:1501 East Bay Area Blvd., League City, TX 77573, US
CATEGORIES:Special Events
DESCRIPTION: \n Scouts Honor Golf Challenge 2026 \n  \n Join us for a day of golf and help us continue the mission of Scouting in the Bay Area Council, Scouting America. Sponsorship levels range from $250 to $5,000. Help us make a difference in the lives of Brazoria and Galveston county youth today.  \n  \n  \n The Bay Area Council is a 501(c)(3) non-profit, youth-development, educational organization that provides programs and support to teach youth skills, values, and ethical decision-making to help them grow into strong leaders and contributing members of our communities.  Scouting has achieved it mission - to prepare young people to make moral and ethical choices over their lifetimes by instilling in them the values of the Scout Oath and Law.  Scouting is needed now more than ever!  Scouting is as impactful as ever!  Scouting is safer now than it has ever been!  We need your support now more than ever! \n  \n  \n Join us in raising funds for Scouting programs in Brazoria and Galveston Counties during our &ldquo;Scouts Honor&rdquo; Golf Challenge. \n  \n  \n DOWNLOAD THE BROCHURE HERE \n  \n  \n   \n  \n  \n Big 5th Players \n  \n Coming soon! \n  \n  \n  \n 	 \n 		 \n 			 \n 			Sponsorship Levels \n  \n 			$5,000 GOLD EAGLE SPONSOR \n  \n 			Big 5th player of choice, two teams, mulligans, plus Ad Package*. \n  \n  \n 			$3,000 SILVER EAGLE SPONSOR \n  \n 			Big 5th player assigned, one team, plus Ad Package*. \n  \n  \n 			$2,000 BRONZE EAGLE SPONSOR \n  \n 			One Team, plus Ad Package*. \n  \n  \n 			*AD PACKAGE \n  \n 			Hole sponsorship, company name and logo listed as a sponsor at your level at the event, logo recognition on the BSA website. Recognition during opening ceremony and awards presentation. \n  \n  \n 			ADDITIONAL SPONSORSHIPS \n  \n 			$3,500 Cap Sponsor  \n  \n 			$3,000 Glove Sponsor  \n  \n 			$2,500 Goody Bag Sponsor  \n  \n 			$2,500 Green Jacket Sponsor  \n  \n 			$2,000 Awards Sponsor  \n  \n 			$2,000 Lunch Sponsor  \n  \n 			$2,000 Premiere Clubhouse Tent Sponsor  \n  \n 			$1,500 Breakfast Sponsor \n  \n 			$1,000 Tent Sponsor (around course) \n  \n 			$1,000 Beverage Sponsor \n  \n 			$   250 Hole Sponsor (sign on course) \n  \n  \n 			PRIZES \n  \n 			Augusta Green Jacket for the Winners \n  \n 			Team Awards 1st-3rd (Gross) \n  \n 			Longest Drive (Men &amp; Women) \n  \n 			Closest to the Pin (Men &amp; Women) \n  \n  \n 			Registration \n  \n 			TIME: Check-in/Registration 7:30 a.m., Shotgun Start, 9 a.m. \n  \n  \n 			Date: Monday, December 1, 2025 \n  \n  \n 			Location: Magnolia Creek Golf Club, 1501 East Bay Area Blvd., League City, TX 77573 \n  \n  \n 			Contact: Lisa Stegman at lisa.stegman@scouting.org \n  \n  \n 			Register By: November 21, 2026 \n  \n 			 \n 			 \n 			Gold Eagle Sponsors \n  \n 			Coming soon! \n  \n  \n 			Silver Eagle Sponsors \n  \n 			Bronze Eagle Sponsors \n  \n 			  \n 			 \n 		 \n 	 \n  \n 
SUMMARY:Scouts Honor Golf Challenge
PRIORITY:5
BEGIN:VALARM
TRIGGER:PT15M
ACTION:DISPLAY
DESCRIPTION:Reminder
PRIORITY:5
END:VALARM
END:VEVENT
END:VCALENDAR
