BEGIN:VCALENDAR
METHOD:PUBLISH
PRODID:-//doubleknot.com//CalenderEvent MIMEDIR//EN
VERSION:2.0
BEGIN:VEVENT
UID:3144231-20260620T070000Z-20260621T070000Z@doubleknot.com
CREATED:20260424T164445Z
LAST-MODIFIED:20260424T165115Z
DTSTAMP:20260424T205539Z
DTSTART;VALUE=DATE:20260620
DTEND;VALUE=DATE:20260621
LOCATION:US
CATEGORIES:Scouts BSA
DESCRIPTION:Merit Badge Day \n  \n Don&rsquo;t miss our exciting Merit Badge Day, where Scouts will have the chance to learn from experienced counselors and build valuable new skills. This special event will focus on safety, helping Scouts gain knowledge they can use in Scouting and everyday life. It&rsquo;s a fun, hands-on opportunity to learn a lot, earn advancement, and spend the day with fellow Scouts. Be sure to join us for a day of learning, adventure, and achievement! \n  \n  \n   \n  \n  \n DOWNLOAD THE FLYER HERE (Coming soon) \n  \n  \n   \n  \n  \n Merit Badge Class \n  \n DOWNLOAD THE CLASS SCHEDULE HERE (Coming soon) \n  \n  \n   \n  \n  \n Registration \n  \n DATE: June 20, 2026 \n  \n  \n COST:  \n  \n $15 per Scout \n  \n Staff are complimentary.  \n  \n  \n CONTACT: Jeremiah Chaplain at Jeremiah.chaplain@baytown.org \n  \n  \n REGISTER BY: June 6, 2026 \n  \n  \n   \n  \n  \n  \n  \n Registration coming soon. \n 
SUMMARY:Merit Badge Day
PRIORITY:5
BEGIN:VALARM
TRIGGER:PT15M
ACTION:DISPLAY
DESCRIPTION:Reminder
PRIORITY:5
END:VALARM
END:VEVENT
END:VCALENDAR
