BEGIN:VCALENDAR
METHOD:PUBLISH
PRODID:-//doubleknot.com//CalenderEvent MIMEDIR//EN
VERSION:2.0
BEGIN:VEVENT
UID:3144232-20260822T070000Z-20260823T070000Z@doubleknot.com
CREATED:20260424T165149Z
LAST-MODIFIED:20260424T171252Z
DTSTAMP:20260424T205834Z
DTSTART;VALUE=DATE:20260822
DTEND;VALUE=DATE:20260823
LOCATION:US
CATEGORIES:Scouts BSA
DESCRIPTION:Merit Badge Day \n  \n Join us for an exciting Home Improvements Merit Badge Day, where Scouts will learn practical skills from experienced counselors and discover how to care for and improve a home. From tools and repairs to smart maintenance tips, Scouts will gain knowledge they can use for years to come. It&rsquo;s a fun, hands-on event where you&rsquo;ll learn a lot, build confidence, and work toward advancement. Don&rsquo;t miss this great opportunity to sharpen your skills and get things done! \n  \n  \n   \n  \n  \n DOWNLOAD THE FLYER HERE (Coming soon) \n  \n  \n   \n  \n  \n Merit Badge Class \n  \n DOWNLOAD THE CLASS SCHEDULE HERE (Coming soon) \n  \n  \n   \n  \n  \n Registration \n  \n DATE: August 22, 2026 \n  \n  \n COST:  \n  \n $15 per Scout \n  \n Staff are complimentary.  \n  \n  \n CONTACT: Steven Bradford at steven.bradford1@gmail.com \n  \n  \n REGISTER BY: August 8, 2026 \n  \n  \n  \n  \n Registration coming soon. \n 
SUMMARY:Merit Badge Day
PRIORITY:5
BEGIN:VALARM
TRIGGER:PT15M
ACTION:DISPLAY
DESCRIPTION:Reminder
PRIORITY:5
END:VALARM
END:VEVENT
END:VCALENDAR
