BEGIN:VCALENDAR
METHOD:PUBLISH
PRODID:-//doubleknot.com//CalenderEvent MIMEDIR//EN
VERSION:2.0
BEGIN:VEVENT
UID:3144233-20260718T070000Z-20260719T070000Z@doubleknot.com
CREATED:20260424T165849Z
LAST-MODIFIED:20260424T170400Z
DTSTAMP:20260424T205049Z
DTSTART;VALUE=DATE:20260718
DTEND;VALUE=DATE:20260719
LOCATION:US
CATEGORIES:Scouts BSA
DESCRIPTION:Merit Badge Lock-In \n  \n Our Merit Badge Lock-In focused on Safety is an overnight event designed to help Scouts build awareness and practical skills in staying safe in everyday situations. Participants will engage in hands-on activities and discussions covering various topics. By the end of the lock-in, Scouts will have gained valuable knowledge and made significant progress toward earning merit badges. \n  \n  \n DOWNLOAD THE FLYER HERE (Coming soon) \n  \n  \n   \n  \n  \n Merit Badge Class \n  \n DOWNLOAD THE CLASS SCHEDULE HERE (Coming soon) \n  \n  \n   \n  \n  \n Registration \n  \n DATE: July 18-19, 2026 \n  \n  \n COST:  \n  \n $20 per Scout \n  \n $10 per Adult \n  \n Staff are complimentary.  \n  \n  \n CONTACT: Dave Albee at dalbee4640@gmail.com \n  \n  \n REGISTER BY: July 4, 2026 \n  \n  \n Registration coming soon. \n 
SUMMARY:Merit Badge Lock-In
PRIORITY:5
BEGIN:VALARM
TRIGGER:PT15M
ACTION:DISPLAY
DESCRIPTION:Reminder
PRIORITY:5
END:VALARM
END:VEVENT
END:VCALENDAR
