BEGIN:VCALENDAR
METHOD:PUBLISH
PRODID:-//doubleknot.com//CalenderEvent MIMEDIR//EN
VERSION:2.0
BEGIN:VEVENT
UID:3144235-20260918T230000Z-20260920T150000Z@doubleknot.com
CREATED:20260424T170535Z
LAST-MODIFIED:20260424T181923Z
DTSTAMP:20260424T224326Z
DTSTART:20260918T230000Z
DTEND:20260920T150000Z
LOCATION:3249 FM 1459 Rd, Sweeny, TX 77480, US
CATEGORIES:Cub Scouts
DESCRIPTION: \n  \n Cub Family Camping &amp; Range Activities Weekend \n  \n Cub Family Camping &amp; Range Activities Weekend is an opportunity for and their families to enjoy a fun, outdoor camping experience while participating in age-appropriate range &amp; target activities. \n  \n  \n Scouts (Tigers, Wolves, Bears, and Webelos Scouts - 1st&ndash;5th graders)* will have the chance to try range &amp; target activities. In addition, families will enjoy the full Cub Family Camp experience, including outdoor adventures and time together in nature.  \n  \n  \n **Due to award requirements, not every Scout may earn an Award.  \n  \n  \n Registration \n  \n TIME: Check-in after 6 p.m. Friday; Check-out by 10 a.m. \n  \n  \n DATE: September 18-20, 2026 \n  \n  \n PLACE: Camp Karankawa, 3249 FM 1459, Sweeny, TX 77480 \n  \n  \n COST: \n  \n $20 per Scout **Ranges are limited to the first 32 scouts who sign up - You must choose this option at sign up. \n  \n $10 for adults &amp; siblings \n  \n Staff are complimentary \n  \n  \n LUNCH: Coming option \n  \n  \n PLEASE BRING: \n  \n - BSA Health and Medical form for every participant, Parts A&amp;B \n  \n - Filed Uniform and Class B t-shirt \n  \n - Closed toed shoes are required - No sandals or crocs \n  \n - Particiants must bring their own food \n  \n - Camp gear, tent, chair, sleeping bags, etc \n  \n - Water bottle \n  \n - Bug spray, sunscreen \n  \n - Bathhouse gear, towel, toiletries \n  \n - Money for Trading Post \n  \n  \n CONTACT: bac.programcommittee@gmail.com \n  \n  \n REGISTER BY: September 4, 2026 \n  \n  \n   \n  \n  \n 
SUMMARY:Cub Family Camping & Range Activities Weekend
PRIORITY:5
BEGIN:VALARM
TRIGGER:PT15M
ACTION:DISPLAY
DESCRIPTION:Reminder
PRIORITY:5
END:VALARM
END:VEVENT
END:VCALENDAR
