BEGIN:VCALENDAR
METHOD:PUBLISH
PRODID:-//doubleknot.com//CalenderEvent MIMEDIR//EN
VERSION:2.0
BEGIN:VEVENT
UID:3144245-20261121T080000Z-20261123T080000Z@doubleknot.com
CREATED:20260424T191144Z
LAST-MODIFIED:20260424T192109Z
DTSTAMP:20260424T231829Z
DTSTART;VALUE=DATE:20261121
DTEND;VALUE=DATE:20261123
LOCATION:3249 FM 1459 Rd., Sweeny, TX 77480, US
CATEGORIES:Scouts BSA
DESCRIPTION:Fall Camp - Scouts BSA 2026 \n  \n  \n Each fall, hundreds of Scouts make Camp K their home for a long weekend of achievement, camping, and leaderships adventures. Try outdoor skills, nature studies, shooting sports, wood working, and Trail to Eagle Merit Badges. Evenings at camp include an ice cream social and movie nights. Camp under the stars while making new friends! \n  \n  \n  \n  \n 	 \n 		 \n 			 \n 			Documents \n  \n 			Download the Leader&#39;s Guide HERE (Coming soon) \n  \n 			Download the flyer HERE (Coming soon) \n  \n  \n 			  \n  \n  \n 			Registration  \n  \n 			CHECK-IN: Check in is from 4-9 p.m. on Friday, November 21st, 2026. \n  \n  \n 			DATE: November 21-23, 2026 \n  \n  \n 			PLACE: Camp Karankawa, 3249 FM 1459, Sweeny, TX 77480 \n  \n  \n 			TO REGISTER: You will need to have the following information available at the time of registration: For Scouts and staff: T-shirt size, dietary restrictions and any physical disabilities. For Adults: Full legal name, address, date of birth, dietary restrictions and any physical disabilities. \n  \n  \n 			- NO INDIVIDUAL REGISTRATIONS ALLOWED. \n  \n 			- SCOUTS MUST HAVE 2-DEEP LEADERSHIP TO ATTEND CAMP. \n  \n 			- CREATE A LOG-IN IF YOU PLAN ON MAKING CHANGES. \n  \n  \n 			REGISTER BY: Oct. 31, 2026 \n  \n  \n 			CONTACT: Camp Director Jill DeWitt jilldewitt.scouting@gmail.com \n  \n  \n 			Registration &amp; class schedule coming soon. \n  \n 			 \n 			 \n 			 \n 			 \n 			Merit Badge Programs \n 			 \n 			 \n  \n 			Download the class schedule HERE (Coming soon) \n  \n  \n 			  \n  \n  \n 			Packing List \n  \n 			- HEALTH FORM HERE (Parts A, B &amp; C must be completed. Please turn in at check-in.) \n  \n 			- CURRENT ROSTER \n  \n 			__Field Uniform (Full Class A - Shirt, Shorts or pants, Socks) \n  \n 			__Tent, sleeping bag &amp; ground cloth or tarp (waterproof) \n  \n 			__Canteen or water bottle \n  \n 			__Insect repellent \n  \n 			__Pack or bag \n  \n 			__Flashlight \n  \n 			__Knife  \n  \n 			__Hat or cap \n  \n 			__Sunscreen lotion \n  \n 			__Rain gear (if needed) \n  \n 			__Light jacket or sweatshirt (if needed) \n  \n 			__Zip-lock bags (to keep socks and underwear dry) \n  \n 			__Towel and washcloth \n  \n 			__Toiletries \n  \n 			__ Money for Trading Post \n  \n 			 \n 		 \n 	 \n  \n 
SUMMARY:Fall Camp
PRIORITY:5
BEGIN:VALARM
TRIGGER:PT15M
ACTION:DISPLAY
DESCRIPTION:Reminder
PRIORITY:5
END:VALARM
END:VEVENT
END:VCALENDAR
