BEGIN:VCALENDAR
METHOD:PUBLISH
PRODID:-//doubleknot.com//CalenderEvent MIMEDIR//EN
VERSION:2.0
BEGIN:VEVENT
UID:3144246-20261106T080000Z-20261108T080000Z@doubleknot.com
CREATED:20260424T194010Z
LAST-MODIFIED:20260424T194010Z
DTSTAMP:20260424T235346Z
DTSTART;VALUE=DATE:20261106
DTEND;VALUE=DATE:20261108
LOCATION:US
CATEGORIES:
SUMMARY:Cub Scout Family Camp
PRIORITY:5
BEGIN:VALARM
TRIGGER:PT15M
ACTION:DISPLAY
DESCRIPTION:Reminder
PRIORITY:5
END:VALARM
END:VEVENT
END:VCALENDAR
