BEGIN:VCALENDAR
METHOD:PUBLISH
PRODID:-//doubleknot.com//CalenderEvent MIMEDIR//EN
VERSION:2.0
BEGIN:VEVENT
UID:3144247-20261219T080000Z-20261221T080000Z@doubleknot.com
CREATED:20260424T194250Z
LAST-MODIFIED:20260424T194429Z
DTSTAMP:20260424T235819Z
DTSTART;VALUE=DATE:20261219
DTEND;VALUE=DATE:20261221
LOCATION:US
CATEGORIES:
SUMMARY:Winter Camp
PRIORITY:5
BEGIN:VALARM
TRIGGER:PT15M
ACTION:DISPLAY
DESCRIPTION:Reminder
PRIORITY:5
END:VALARM
END:VEVENT
END:VCALENDAR
